BEGIN:VCALENDAR
VERSION:2.0
PRODID:-//Plone.org//NONSGML plone.app.event//EN
X-WR-TIMEZONE:Europe/Madrid
BEGIN:VEVENT
SUMMARY:Forum Etseib el 25 i 26 de novembre 2020.
DTSTART;TZID=Europe/Madrid:20201125T000000
DTEND;TZID=Europe/Madrid:20201125T000000
DTSTAMP:20260424T070746Z
UID:db1aef5f494849f1a0548946ee1d6eb2@alumni.etseib.upc.edu
CREATED:20201117T154000Z
LAST-MODIFIED:20201117T154615Z
URL:https://alumni.etseib.upc.edu/ca/proximes-jornades-i-activitats/forum-
 etseib-el-25-i-26-de-novembre-2020
END:VEVENT
BEGIN:VTIMEZONE
TZID:Europe/Madrid
X-LIC-LOCATION:Europe/Madrid
BEGIN:STANDARD
DTSTART:20201025T020000
TZNAME:CET
TZOFFSETFROM:+0200
TZOFFSETTO:+0100
END:STANDARD
END:VTIMEZONE
END:VCALENDAR
